BEGIN:VCALENDAR
VERSION:2.0
PRODID:-//Jazzklub Krefeld e. V. - ECPv6.15.14//NONSGML v1.0//EN
CALSCALE:GREGORIAN
METHOD:PUBLISH
X-ORIGINAL-URL:https://jazzklub-krefeld.de
X-WR-CALDESC:Veranstaltungen für Jazzklub Krefeld e. V.
REFRESH-INTERVAL;VALUE=DURATION:PT1H
X-Robots-Tag:noindex
X-PUBLISHED-TTL:PT1H
BEGIN:VTIMEZONE
TZID:Europe/Berlin
BEGIN:DAYLIGHT
TZOFFSETFROM:+0100
TZOFFSETTO:+0200
TZNAME:CEST
DTSTART:20220327T010000
END:DAYLIGHT
BEGIN:STANDARD
TZOFFSETFROM:+0200
TZOFFSETTO:+0100
TZNAME:CET
DTSTART:20221030T010000
END:STANDARD
BEGIN:DAYLIGHT
TZOFFSETFROM:+0100
TZOFFSETTO:+0200
TZNAME:CEST
DTSTART:20230326T010000
END:DAYLIGHT
BEGIN:STANDARD
TZOFFSETFROM:+0200
TZOFFSETTO:+0100
TZNAME:CET
DTSTART:20231029T010000
END:STANDARD
BEGIN:DAYLIGHT
TZOFFSETFROM:+0100
TZOFFSETTO:+0200
TZNAME:CEST
DTSTART:20240331T010000
END:DAYLIGHT
BEGIN:STANDARD
TZOFFSETFROM:+0200
TZOFFSETTO:+0100
TZNAME:CET
DTSTART:20241027T010000
END:STANDARD
END:VTIMEZONE
BEGIN:VEVENT
DTSTART;TZID=Europe/Berlin:20230611T160000
DTEND;TZID=Europe/Berlin:20230611T160000
DTSTAMP:20260421T103636
CREATED:20230325T204740Z
LAST-MODIFIED:20230325T204740Z
UID:11956-1686499200-1686499200@jazzklub-krefeld.de
SUMMARY:JAZZATTACK
DESCRIPTION:REINER WITZEL saxophone\nMARTIN SCHULTE guitar\nHARALD INGENHAG drums\nSTEFAN RADEMACHER bass
URL:https://jazzklub-krefeld.de/event/jazzattack-37/
LOCATION:Jazzkeller\, Open Air Terrasse\, Lohstraße 92\, 47798 Krefeld\, Deutschland
END:VEVENT
BEGIN:VEVENT
DTSTART;TZID=Europe/Berlin:20230617T183000
DTEND;TZID=Europe/Berlin:20230617T183000
DTSTAMP:20260421T103636
CREATED:20230325T210139Z
LAST-MODIFIED:20230326T132025Z
UID:11958-1687026600-1687026600@jazzklub-krefeld.de
SUMMARY:JAZZ AN EINEM SOMMERABEND
DESCRIPTION:Jazz an einem Sommerabend steht seit 1985 für hochkarätigen Jazz von internationalem Format in einem einzigartigen Ambiente – und ist gleichzeitig eines der jährlichen Highlights der Krefelder Kulturszene. Auch für das diesjährige Festival konnten herausragende Künstler gefunden werden. Der Blick richtet sich diesmal auf die Frauen im Jazz\, den afrikanischen Einfluss auf die europäische Szene und -gleich in doppelter Hinsicht- auf die französische Jazzwelt\, mit ihren seit jeher herausragenden Protagonisten: \n  \nÉMILE PARISIEN SEXTET – LOUISE ca. 21.30 Uhr \nFotomontage © Peter Schmitz\nÉMILE PARISIEN soprano saxophone\nYOHAN LOUSTATOT trumpet\nMANU CODIJA guitar\nJULIEN TOURÉRY piano\nFLORENT NISSE double bass\nGAULTIER GARRIGUE drums \n„Louise“ ist ein bemerkenswertes Projekt\, in dem wilde Energie ganz harmonisch und natürlich mit einer weichen Seite koexistiert\, dessen Freiheit und Schönheit umso mehr zum Vorschein kommt\, je genauer man hinhört. Es ist der bisher tiefste und persönlichste Einblick in die Seele\, den Charakter und die kreative Individualität Emile Parisiens\, als einem der aktuell wichtigsten Jazzmusiker Europas. \n  \nTRIO RAULIN/BEKKAS/BIAYENDA ca. 20 Uhr \nFoto © Martin Stahl\nFRANÇOIS RAULIN composition\, piano\, mbira\nMAJID BEKKAS bouzouki\, oud\, guembri\, vocals\, composition\nÉMILE BIAYENDA percussions\, drums \nIm Trio RAULIN/BEKKAS/BIAYNDA verkörpert jeder eine andere Musikkultur. Aber es gelingt ihnen ohne Mühe\, einen gemeinsamen Spielplatz zu finden. Es muss gesagt werden\, dass alle drei auf ihre Weise von afrikanischer Musik geprägt sind. Der Jazz von François Raulin schöpft stark aus dieser Quelle\, die er selber als eine der auffälligsten seiner Inspirationen bezeichnet. Spannend! \n  \nSISTERS IN JAZZ 18.30 Uhr \nFotomontage © Peter Schmitz\nIZABELLA EFFENBERG vibraphone\, steeldrum\, sundrum\nLISA BUCHHOLZ trumpet\, flugelhorn\nSTEFANIE LOTTERMOSER tenor saxophone\, vocals\nCLARA DÄUBLER double bass\nDOROTA PIOTROWSKA drums \nEndlich mal eine reine Frauenjazzband! Das hat uns noch gefehlt. Die SISTERS IN JAZZ eröffnen das diesjährige JAZZ AN EINEM SOMMERABEND. Die „SISTERS“ sind keine feste Band\, sondern ein Projekt mit wechselnden Musikerinnen. Es gibt keine Frontfrau\, sondern ein gleichberechtigtes Miteinander. Alle Damen kommen auch als Komponistinnen zum Zuge und prägen den Gruppensound in gleicher Weise mit je ihrer individuellen Handschrift. \n  \nVORVERKAUF\nDer andere Buchladen\, Dionysiusstr. 7\, 47798 Krefeld\nJazzkeller Krefeld\, Lohstr. 92\, 47798\nund online im JKK Ticketshop bei TicketPay. \nWeitere Informationen findet Ihr auf jazz-an-einem-sommerabend.de
URL:https://jazzklub-krefeld.de/event/jazz-an-einem-sommerabend-3/
LOCATION:Burg Linn\, Rheinbabenstraße 85\, Krefeld\, 47809\, Deutschland
END:VEVENT
BEGIN:VEVENT
DTSTART;TZID=Europe/Berlin:20230625T160000
DTEND;TZID=Europe/Berlin:20230625T160000
DTSTAMP:20260421T103636
CREATED:20230325T210451Z
LAST-MODIFIED:20230603T183657Z
UID:11961-1687708800-1687708800@jazzklub-krefeld.de
SUMMARY:JAZZATTACK
DESCRIPTION:Foto © Künstler\nCARL ORR guitar\nJESSE MILLINER keyboards\nANDREW GANDER drums\nSTEFAN RADEMACHER bass \n  \nGleich 2 Australier teilen sich auf Einladung von STFEAN RADEMACHER die Bühne. Der in London lebende Australier CARL ORR ist schon lange gern gesehener Gast bei der Jazzattack. Im Herbst 2019 gab es für ihn im Jazzkeller ein Wiedersehen mit ANDREW GANDER\, mit dem er vor der Jahrtausendwende eine Band in Sydney hatte. JESSE MILLINER und STEFAN RADEMACHER haben sich bei einem vielfach beachteten Konzert 2019 mit RANDY BRECKER die Bühne geteilt. Beste Voraussetzungen für eine Fair-Well-Party für ANDREW GANDER\, der nach Australien zurückkehrt.
URL:https://jazzklub-krefeld.de/event/jazzattack-38/
LOCATION:Jazzkeller\, Open Air Terrasse\, Lohstraße 92\, 47798 Krefeld\, Deutschland
END:VEVENT
BEGIN:VEVENT
DTSTART;TZID=Europe/Berlin:20230629T203000
DTEND;TZID=Europe/Berlin:20230629T203000
DTSTAMP:20260421T103636
CREATED:20230325T210859Z
LAST-MODIFIED:20230325T210859Z
UID:11965-1688070600-1688070600@jazzklub-krefeld.de
SUMMARY:JAZZ-SESSION
DESCRIPTION:Eröffnet von dem FOUR AND MORE JAZZQUARTETT\n \nREINER LOTTERMOSER  tenor saxophone\nJÜRGEN BUSCHKA piano\nRALF DIEDENHOFEN double bass\nDIRK HOGENACKER drums \nNach einem einführenden Set der Opener Band sind alle anwesenden Musiker herzlich eingeladen bei der anschließenden Jam-Session einzusteigen.
URL:https://jazzklub-krefeld.de/event/jazz-session-18/
LOCATION:Jazzkeller\, Lohstraße 92\, 47798 Krefeld\, Deutschland
END:VEVENT
END:VCALENDAR